BEGIN:VCALENDAR
VERSION:2.0
PRODID:-//eventon.com NONSGML v1.0//EN
CALSCALE:GREGORIAN
METHOD:PUBLISH
BEGIN:VEVENT
UID:69e89cbc19101
DTSTAMP:20260422T100236Z
DTSTART:20221009
DTEND:20221010
LOCATION:
SUMMARY:Fotoshooting mit Heinrich Schulte
DESCRIPTION:Details folgen!\nhttps://www.galloway-deutschland.de/events/fot
 oshooting-mit-heinrich-schulte
URL:https://www.galloway-deutschland.de/events/fotoshooting-mit-heinrich-schulte
END:VEVENT
END:VCALENDAR