BEGIN:VCALENDAR
VERSION:2.0
PRODID:-//eventon.com NONSGML v1.0//EN
CALSCALE:GREGORIAN
METHOD:PUBLISH
BEGIN:VEVENT
UID:69e58f0a2cf85
DTSTAMP:20260420T022722Z
DTSTART:20230916T130000Z
DTEND:20230923T070000Z
LOCATION:Hotel National Bern CH Hirschengraben 24 CH-3011 Bern
SUMMARY:World Galloway Conference 2023
DESCRIPTION:World Galloway Conference 2023\nhttps://www.galloway-deutschlan
 d.de/events/world-galloway-conference-2023
URL:https://www.galloway-deutschland.de/events/world-galloway-conference-2023
END:VEVENT
END:VCALENDAR