BEGIN:VCALENDAR
VERSION:2.0
PRODID:-//eventon.com NONSGML v1.0//EN
CALSCALE:GREGORIAN
METHOD:PUBLISH
BEGIN:VEVENT
UID:69ecd0e52dbdd
DTSTAMP:20260425T143413Z
DTSTART:20261129
DTEND:20261130
LOCATION:
SUMMARY:GIN-Züchtertreffen als Adventsfeier
DESCRIPTION:Informationen und Ort kommen rechtzeitig!\nhttps://www.galloway
 -deutschland.de/events/gin-zuechtertreffen-als-adventsfeier
URL:https://www.galloway-deutschland.de/events/gin-zuechtertreffen-als-adventsfeier
END:VEVENT
END:VCALENDAR