BEGIN:VCALENDAR
VERSION:2.0
PRODID:-//eventon.com NONSGML v1.0//EN
CALSCALE:GREGORIAN
METHOD:PUBLISH
BEGIN:VEVENT
UID:69e9258050842
DTSTAMP:20260422T194608Z
DTSTART:20260826T070000Z
DTEND:20260827T150000Z
LOCATION:Landwirtschaftliches Bildungszentrum (LBZ) Echem Zur Bleeke 6\,  21379 Echem
SUMMARY:Echemer Mutterkuhtage
DESCRIPTION:Echemer Mutterkuhtage\nhttps://www.galloway-deutschland.de/even
 ts/echemer-mutterkuhtage
URL:https://www.galloway-deutschland.de/events/echemer-mutterkuhtage
END:VEVENT
END:VCALENDAR