BEGIN:VCALENDAR
VERSION:2.0
PRODID:-//eventon.com NONSGML v1.0//EN
CALSCALE:GREGORIAN
METHOD:PUBLISH
BEGIN:VEVENT
UID:69e58e0578f66
DTSTAMP:20260420T022301Z
DTSTART:20260918T080000Z
DTEND:20260920T160000Z
LOCATION:Halle Messe 06116 Halle (Saale)\,  Messestr. 10
SUMMARY:Reitsportmesse Halle (Saale)
DESCRIPTION:Reitsportmesse Halle (Saale)\nhttps://www.galloway-deutschland.
 de/events/reitsportmesse-halle-saale
URL:https://www.galloway-deutschland.de/events/reitsportmesse-halle-saale
END:VEVENT
END:VCALENDAR