BEGIN:VCALENDAR
VERSION:2.0
PRODID:-//eventon.com NONSGML v1.0//EN
CALSCALE:GREGORIAN
METHOD:PUBLISH
BEGIN:VEVENT
UID:69ea0c1aa3420
DTSTAMP:20260423T121002Z
DTSTART:20230603T070000Z
DTEND:20230604T150000Z
LOCATION:Hof Grilseifen Am Sonnenberg 13 65321 Heidenrod
SUMMARY:Fitting & Videoclip Seminar
DESCRIPTION:Anmeldeschluss war der 27.05.2023\nhttps://www.galloway-deutsch
 land.de/events/fitting-und-videoclip-seminar
URL:https://www.galloway-deutschland.de/events/fitting-und-videoclip-seminar
END:VEVENT
END:VCALENDAR