BEGIN:VCALENDAR
VERSION:2.0
PRODID:-//eventon.com NONSGML v1.0//EN
CALSCALE:GREGORIAN
METHOD:PUBLISH
BEGIN:VEVENT
UID:69e7546f976a2
DTSTAMP:20260421T104151Z
DTSTART:20250509T073000Z
DTEND:20250510T140000Z
LOCATION:Hessenhalle Alsfeld An der Hessenhalle 36304 Alsfeld
SUMMARY:Galloway Open\,  Alsfeld
DESCRIPTION:Galloway Open\,  Alsfeld\nhttps://www.galloway-deutschland.de/e
 vents/galloway-open-alsfeld
URL:https://www.galloway-deutschland.de/events/galloway-open-alsfeld
END:VEVENT
END:VCALENDAR