BEGIN:VCALENDAR
VERSION:2.0
PRODID:-//eventon.com NONSGML v1.0//EN
CALSCALE:GREGORIAN
METHOD:PUBLISH
BEGIN:VEVENT
UID:69e5d8cca65a9
DTSTAMP:20260420T074204Z
DTSTART:20240514T173000Z
DTEND:20240514T193000Z
LOCATION:
SUMMARY:Worskhop - Die BDG Internetseiten optimal nutzen!
DESCRIPTION:Sie müssen als BDG Mitglied angemeldet sein um die Online Anme
 ldung zu sehen!\nhttps://www.galloway-deutschland.de/events/worskhop-die-bd
 g-internetseiten-optimal-nutzen-apple-ios
URL:https://www.galloway-deutschland.de/events/worskhop-die-bdg-internetseiten-optimal-nutzen-apple-ios
END:VEVENT
END:VCALENDAR