BEGIN:VCALENDAR
VERSION:2.0
PRODID:-//eventon.com NONSGML v1.0//EN
CALSCALE:GREGORIAN
METHOD:PUBLISH
BEGIN:VEVENT
UID:69e7e7ac96eb2
DTSTAMP:20260421T211004Z
DTSTART:20260523T070000Z
DTEND:20260523T160000Z
LOCATION:Frankenberger Pfingstmarkt Kleine Wehrweide 6\,  35066 Frankenberg
SUMMARY:Tierschau auf dem Frankenberger Pfingstmarkt
DESCRIPTION:Tierschau auf dem Frankenberger Pfingstmarkt\nhttps://www.gallo
 way-deutschland.de/events/tierschau-auf-dem-frankenberger-pfingstmarkt
URL:https://www.galloway-deutschland.de/events/tierschau-auf-dem-frankenberger-pfingstmarkt
END:VEVENT
END:VCALENDAR