BEGIN:VCALENDAR
VERSION:2.0
PRODID:-//eventon.com NONSGML v1.0//EN
CALSCALE:GREGORIAN
METHOD:PUBLISH
BEGIN:VEVENT
UID:69e88ec4021f3
DTSTAMP:20260422T090300Z
DTSTART:20251007T080000Z
DTEND:20251008T160000Z
LOCATION:Deutscher Grünlandtag 2025 Heidenrod/Springen
SUMMARY:Deutscher Grünlandtag 2025
DESCRIPTION:Deutscher Grünlandtag 2025\nhttps://www.galloway-deutschland.d
 e/events/deutscher-gruenlandtag-2025
URL:https://www.galloway-deutschland.de/events/deutscher-gruenlandtag-2025
END:VEVENT
END:VCALENDAR