BEGIN:VCALENDAR
VERSION:2.0
PRODID:-//eventon.com NONSGML v1.0//EN
CALSCALE:GREGORIAN
METHOD:PUBLISH
BEGIN:VEVENT
UID:69ea9681173ad
DTSTAMP:20260423T220033Z
DTSTART:20230429T190000Z
DTEND:20230429T215000Z
LOCATION:Historisches Kurhaus Am Kurpark 3\,  65307 Bad Schwalbach
SUMMARY:BDG Hybrid Bullenauktion
DESCRIPTION:BDG Hybrid Bullenauktion\nhttps://www.galloway-deutschland.de/e
 vents/bdg-hybrid-bullenauktion
URL:https://www.galloway-deutschland.de/events/bdg-hybrid-bullenauktion
END:VEVENT
END:VCALENDAR