BEGIN:VCALENDAR
VERSION:2.0
PRODID:-//eventon.com NONSGML v1.0//EN
CALSCALE:GREGORIAN
METHOD:PUBLISH
BEGIN:VEVENT
UID:69e53853a2b3c
DTSTAMP:20260419T201723Z
DTSTART:20220924T070000Z
DTEND:20220924T215000Z
LOCATION:Messe Erfurt Gothaer Str. 34\,  99094 Erfurt
SUMMARY:Jungzüchterwettbewerb Erfurt
DESCRIPTION:Jungzüchterwettbewerb Erfurt\nhttps://www.galloway-deutschland
 .de/events/jungzuechterwettbewerb-erfurt
URL:https://www.galloway-deutschland.de/events/jungzuechterwettbewerb-erfurt
END:VEVENT
END:VCALENDAR